BEGIN:VCALENDAR
VERSION:2.0
PRODID:icalendar-ruby
CALSCALE:GREGORIAN
METHOD:PUBLISH
BEGIN:VEVENT
DTSTAMP:20260422T224957Z
UID:6-541093@riverschurch.com
DTSTART:20221023T000000Z
DTEND:20221023T011500Z
CLASS:PUBLIC
CREATED:20260423T083829
DESCRIPTION:We gather each Sunday morning at 10am to worship the Lord toget
 her. Our church family is a pretty relaxed bunch\, feel free to dress casu
 al and hang around for a cuppa afterwards. You'll have the option of sitti
 ng inside or outside with the live TV feed. Rivers Kids is on during the s
 chool term. When you arrive register your child and then head into the ser
 vice\, they will head out for the kids program after the announcements.
LAST-MODIFIED:20260423T083829
LOCATION:120 Ann St Kallangur
SUMMARY:Sunday Service 10am
URL;VALUE=URI:https://www.riverschurch.com/events/sunday-service-10am/2022-
 10-23
ATTACH;FILENAME=PXL_20201110_034823112.jpg;FMTTYPE=image/jpeg:https://dq5pw
 pg1q8ru0.cloudfront.net/2020/11/12/03/41/22/d8d46e33-6b7d-45e9-aa66-20d9fd
 d7c636/PXL_20201110_034823112.jpg
END:VEVENT
END:VCALENDAR
